BEGIN:VCALENDAR
VERSION:2.0
PRODID:-//jEvents 2.0 for Joomla//EN
CALSCALE:GREGORIAN
METHOD:PUBLISH
BEGIN:VTIMEZONE
TZID:Europe/Berlin
BEGIN:STANDARD
DTSTART:20210324T200000
RDATE:20210328T030000
TZOFFSETFROM:+0200
TZOFFSETTO:+0100
TZNAME:Europe/Berlin CET
END:STANDARD
BEGIN:STANDARD
DTSTART:20211031T020000
RDATE:20220327T030000
TZOFFSETFROM:+0200
TZOFFSETTO:+0100
TZNAME:Europe/Berlin CET
END:STANDARD
BEGIN:STANDARD
DTSTART:20221030T020000
RDATE:20230326T030000
TZOFFSETFROM:+0200
TZOFFSETTO:+0100
TZNAME:Europe/Berlin CET
END:STANDARD
BEGIN:STANDARD
DTSTART:20231029T020000
RDATE:20240331T030000
TZOFFSETFROM:+0200
TZOFFSETTO:+0100
TZNAME:Europe/Berlin CET
END:STANDARD
BEGIN:STANDARD
DTSTART:20241027T020000
RDATE:20250330T030000
TZOFFSETFROM:+0200
TZOFFSETTO:+0100
TZNAME:Europe/Berlin CET
END:STANDARD
BEGIN:STANDARD
DTSTART:20251026T020000
RDATE:20260329T030000
TZOFFSETFROM:+0200
TZOFFSETTO:+0100
TZNAME:Europe/Berlin CET
END:STANDARD
BEGIN:STANDARD
DTSTART:20261025T020000
RDATE:20270328T030000
TZOFFSETFROM:+0200
TZOFFSETTO:+0100
TZNAME:Europe/Berlin CET
END:STANDARD
BEGIN:STANDARD
DTSTART:20271031T020000
RDATE:20280326T030000
TZOFFSETFROM:+0200
TZOFFSETTO:+0100
TZNAME:Europe/Berlin CET
END:STANDARD
BEGIN:STANDARD
DTSTART:20281029T020000
RDATE:20290325T030000
TZOFFSETFROM:+0200
TZOFFSETTO:+0100
TZNAME:Europe/Berlin CET
END:STANDARD
BEGIN:STANDARD
DTSTART:20291028T020000
RDATE:20300331T030000
TZOFFSETFROM:+0200
TZOFFSETTO:+0100
TZNAME:Europe/Berlin CET
END:STANDARD
BEGIN:STANDARD
DTSTART:20301027T020000
RDATE:20310330T030000
TZOFFSETFROM:+0200
TZOFFSETTO:+0100
TZNAME:Europe/Berlin CET
END:STANDARD
BEGIN:DAYLIGHT
DTSTART:20210328T030000
RDATE:20211031T020000
TZOFFSETFROM:+0100
TZOFFSETTO:+0200
TZNAME:Europe/Berlin CEST
END:DAYLIGHT
BEGIN:DAYLIGHT
DTSTART:20220327T030000
RDATE:20221030T020000
TZOFFSETFROM:+0100
TZOFFSETTO:+0200
TZNAME:Europe/Berlin CEST
END:DAYLIGHT
BEGIN:DAYLIGHT
DTSTART:20230326T030000
RDATE:20231029T020000
TZOFFSETFROM:+0100
TZOFFSETTO:+0200
TZNAME:Europe/Berlin CEST
END:DAYLIGHT
BEGIN:DAYLIGHT
DTSTART:20240331T030000
RDATE:20241027T020000
TZOFFSETFROM:+0100
TZOFFSETTO:+0200
TZNAME:Europe/Berlin CEST
END:DAYLIGHT
BEGIN:DAYLIGHT
DTSTART:20250330T030000
RDATE:20251026T020000
TZOFFSETFROM:+0100
TZOFFSETTO:+0200
TZNAME:Europe/Berlin CEST
END:DAYLIGHT
BEGIN:DAYLIGHT
DTSTART:20260329T030000
RDATE:20261025T020000
TZOFFSETFROM:+0100
TZOFFSETTO:+0200
TZNAME:Europe/Berlin CEST
END:DAYLIGHT
BEGIN:DAYLIGHT
DTSTART:20270328T030000
RDATE:20271031T020000
TZOFFSETFROM:+0100
TZOFFSETTO:+0200
TZNAME:Europe/Berlin CEST
END:DAYLIGHT
BEGIN:DAYLIGHT
DTSTART:20280326T030000
RDATE:20281029T020000
TZOFFSETFROM:+0100
TZOFFSETTO:+0200
TZNAME:Europe/Berlin CEST
END:DAYLIGHT
BEGIN:DAYLIGHT
DTSTART:20290325T030000
RDATE:20291028T020000
TZOFFSETFROM:+0100
TZOFFSETTO:+0200
TZNAME:Europe/Berlin CEST
END:DAYLIGHT
BEGIN:DAYLIGHT
DTSTART:20300331T030000
RDATE:20301027T020000
TZOFFSETFROM:+0100
TZOFFSETTO:+0200
TZNAME:Europe/Berlin CEST
END:DAYLIGHT
END:VTIMEZONE
BEGIN:VEVENT
UID:3c02730fa28527c65a8d8f0bd688f209
CATEGORIES:Mitgliederversammlungen
CREATED:20260422T143418
SUMMARY:Mitgliederversammlung -2022
LOCATION:Haus Mähler
DESCRIPTION:Mitgliederversammlung 2022\nTagesordnung:\n\n - Begrüßung\n - Protokoll der
  vergangenen zwei Jahre\n - Kassenbericht der vergangenen zwei Jahre\n - Wa
 hlen\n - Verschiedenes \n
X-ALT-DESC;FMTTYPE=text/html:<p><span style="font-family: arial,helvetica,sans-serif; font-size: 12pt;">
 Mitgliederversammlung 2022</span></p><p><strong><span style="font-family: a
 rial,helvetica,sans-serif;"><span style="font-size: small;">Tagesordnung:</
 span></span></strong></p><ol><li><span style="font-family: arial,helvetica,
 sans-serif;"><span style="font-size: small;"><span style="font-family: aria
 l,helvetica,sans-serif;"><span style="font-size: small;">Begrüßung</span></
 span></span></span></li><li><span style="font-family: arial,helvetica,sans-
 serif;"><span style="font-size: small;"><span style="font-family: arial,hel
 vetica,sans-serif;"><span style="font-size: small;">Protokoll der vergangen
 en zwei Jahre</span></span></span></span></li><li><span style="font-family:
  arial,helvetica,sans-serif;"><span style="font-size: small;"><span style="
 font-family: arial,helvetica,sans-serif;"><span style="font-size: small;">K
 assenbericht der vergangenen zwei Jahre</span></span></span></span></li><li
 ><span style="font-family: arial,helvetica,sans-serif;"><span style="font-s
 ize: small;"><span style="font-family: arial,helvetica,sans-serif;"><span s
 tyle="font-size: small;">Wahlen</span></span></span></span></li><li><span s
 tyle="font-family: arial,helvetica,sans-serif;"><span style="font-size: sma
 ll;"><span style="font-family: arial,helvetica,sans-serif;"><span style="fo
 nt-size: small;">Verschiedenes</span></span></span></span></li></ol><p>&nbs
 p;</p>
DTSTAMP:20260422T143418Z
DTSTART;TZID=Europe/Berlin:20220325T200000
DTEND;TZID=Europe/Berlin:20220325T220000
SEQUENCE:0
TRANSP:OPAQUE
END:VEVENT
END:VCALENDAR