BEGIN:VCALENDAR
VERSION:2.0
PRODID:-//jEvents 2.0 for Joomla//EN
CALSCALE:GREGORIAN
METHOD:PUBLISH
BEGIN:VTIMEZONE
TZID:Europe/Berlin
BEGIN:STANDARD
DTSTART:20241027T020000
RDATE:20250330T030000
TZOFFSETFROM:+0200
TZOFFSETTO:+0100
TZNAME:Europe/Berlin CET
END:STANDARD
BEGIN:STANDARD
DTSTART:20251026T020000
RDATE:20260329T030000
TZOFFSETFROM:+0200
TZOFFSETTO:+0100
TZNAME:Europe/Berlin CET
END:STANDARD
BEGIN:STANDARD
DTSTART:20261025T020000
RDATE:20270328T030000
TZOFFSETFROM:+0200
TZOFFSETTO:+0100
TZNAME:Europe/Berlin CET
END:STANDARD
BEGIN:STANDARD
DTSTART:20271031T020000
RDATE:20280326T030000
TZOFFSETFROM:+0200
TZOFFSETTO:+0100
TZNAME:Europe/Berlin CET
END:STANDARD
BEGIN:STANDARD
DTSTART:20281029T020000
RDATE:20290325T030000
TZOFFSETFROM:+0200
TZOFFSETTO:+0100
TZNAME:Europe/Berlin CET
END:STANDARD
BEGIN:STANDARD
DTSTART:20291028T020000
RDATE:20300331T030000
TZOFFSETFROM:+0200
TZOFFSETTO:+0100
TZNAME:Europe/Berlin CET
END:STANDARD
BEGIN:STANDARD
DTSTART:20301027T020000
RDATE:20310330T030000
TZOFFSETFROM:+0200
TZOFFSETTO:+0100
TZNAME:Europe/Berlin CET
END:STANDARD
BEGIN:DAYLIGHT
DTSTART:20240808T103000
RDATE:20241027T020000
TZOFFSETFROM:+0100
TZOFFSETTO:+0200
TZNAME:Europe/Berlin CEST
END:DAYLIGHT
BEGIN:DAYLIGHT
DTSTART:20250330T030000
RDATE:20251026T020000
TZOFFSETFROM:+0100
TZOFFSETTO:+0200
TZNAME:Europe/Berlin CEST
END:DAYLIGHT
BEGIN:DAYLIGHT
DTSTART:20260329T030000
RDATE:20261025T020000
TZOFFSETFROM:+0100
TZOFFSETTO:+0200
TZNAME:Europe/Berlin CEST
END:DAYLIGHT
BEGIN:DAYLIGHT
DTSTART:20270328T030000
RDATE:20271031T020000
TZOFFSETFROM:+0100
TZOFFSETTO:+0200
TZNAME:Europe/Berlin CEST
END:DAYLIGHT
BEGIN:DAYLIGHT
DTSTART:20280326T030000
RDATE:20281029T020000
TZOFFSETFROM:+0100
TZOFFSETTO:+0200
TZNAME:Europe/Berlin CEST
END:DAYLIGHT
BEGIN:DAYLIGHT
DTSTART:20290325T030000
RDATE:20291028T020000
TZOFFSETFROM:+0100
TZOFFSETTO:+0200
TZNAME:Europe/Berlin CEST
END:DAYLIGHT
BEGIN:DAYLIGHT
DTSTART:20300331T030000
RDATE:20301027T020000
TZOFFSETFROM:+0100
TZOFFSETTO:+0200
TZNAME:Europe/Berlin CEST
END:DAYLIGHT
END:VTIMEZONE
BEGIN:VEVENT
UID:b07deee79f98f82313e4e72e0b6e19c5
CATEGORIES:Bauernvogelschießen
CREATED:20250701T142458
SUMMARY:Stadtkönig Schießen
LOCATION:Schießstand der Junggesellen
DESCRIPTION:Stadtkönigschießen der Breckerfelder \nTraditions- und Schützenvereine\n \n
 Das diesjährige Stadtkönigschießen findet am Samstag, 09.08.2025\nauf dem S
 chießstand des Schützenvereis "Gut-Ziel" in Delle statt.\nHierzu treten die
  Vereine um 10.30 Uhr auf dem Marktplatz in Breckerfeld an.\nBauernschützen
  in normaler Tracht mit Kittel und Halstuch (ohne Hülsenstock).\n \nGeschos
 sen wird auf einen Vogel. Hierzu kann jeder Verein 13 Schützen stellen.\nDi
 e Auswahl der Schützen erfolgt wie folgt:\nVorrang haben die anwesenden Kön
 ige und Fähnriche.\nVerbleibende Plätze werden unter den restlichen, anwese
 nden Bauernschützen vergeben.\nSollten mehr Interessenten am Erwerb der Sta
 dtkönigswürde anwesend sein, \nentscheidet das Los.\n
X-ALT-DESC;FMTTYPE=text/html:<p align="center"><strong>Stadtkönigschießen der Breckerfelder </strong></p
 ><p align="center"><strong>Traditions- und Schützenvereine</strong></p><p a
 lign="center"><strong>&nbsp;</strong></p><p align="center"><strong>Das dies
 jährige Stadtkönigschießen findet am Samstag, 09.08.2025</strong></p><p ali
 gn="center"><strong>auf dem Schießstand des Schützenvereis "Gut-Ziel" in De
 lle statt.</strong></p><p align="center"><strong>Hierzu treten die Vereine 
 um 10.30 Uhr auf dem Marktplatz in Breckerfeld an.</strong></p><p align="ce
 nter"><strong>Bauernschützen in normaler Tracht mit Kittel und Halstuch (oh
 ne Hülsenstock).</strong></p><p align="center"><strong>&nbsp;</strong></p><
 p align="center"><strong>Geschossen wird auf einen Vogel. Hierzu kann jeder
  Verein 13 Schützen stellen.</strong></p><p align="center"><strong>Die Ausw
 ahl der Schützen erfolgt wie folgt:</strong></p><p align="center"><strong>V
 orrang haben die anwesenden Könige und Fähnriche.</strong></p><p align="cen
 ter"><strong>Verbleibende Plätze werden unter den restlichen, anwesenden Ba
 uernschützen vergeben.</strong></p><p align="center"><strong>Sollten mehr I
 nteressenten am Erwerb der Stadtkönigswürde anwesend sein, </strong></p><p 
 align="center"><strong>entscheidet das Los.</strong></p>
DTSTAMP:20260425T215018Z
DTSTART;TZID=Europe/Berlin:20250809T103000
SEQUENCE:0
TRANSP:OPAQUE
END:VEVENT
END:VCALENDAR